BEGIN:VCALENDAR
VERSION:2.0
PRODID:-//Idaho Division of Career Technical Education - ECPv6.15.20//NONSGML v1.0//EN
CALSCALE:GREGORIAN
METHOD:PUBLISH
X-WR-CALNAME:Idaho Division of Career Technical Education
X-ORIGINAL-URL:https://cte.idaho.gov
X-WR-CALDESC:Events for Idaho Division of Career Technical Education
REFRESH-INTERVAL;VALUE=DURATION:PT1H
X-Robots-Tag:noindex
X-PUBLISHED-TTL:PT1H
BEGIN:VTIMEZONE
TZID:America/Boise
BEGIN:DAYLIGHT
TZOFFSETFROM:-0700
TZOFFSETTO:-0600
TZNAME:MDT
DTSTART:20250309T090000
END:DAYLIGHT
BEGIN:STANDARD
TZOFFSETFROM:-0600
TZOFFSETTO:-0700
TZNAME:MST
DTSTART:20251102T080000
END:STANDARD
BEGIN:DAYLIGHT
TZOFFSETFROM:-0700
TZOFFSETTO:-0600
TZNAME:MDT
DTSTART:20260308T090000
END:DAYLIGHT
BEGIN:STANDARD
TZOFFSETFROM:-0600
TZOFFSETTO:-0700
TZNAME:MST
DTSTART:20261101T080000
END:STANDARD
BEGIN:DAYLIGHT
TZOFFSETFROM:-0700
TZOFFSETTO:-0600
TZNAME:MDT
DTSTART:20270314T090000
END:DAYLIGHT
BEGIN:STANDARD
TZOFFSETFROM:-0600
TZOFFSETTO:-0700
TZNAME:MST
DTSTART:20271107T080000
END:STANDARD
END:VTIMEZONE
BEGIN:VEVENT
DTSTART;TZID=America/Boise:20260515T080000
DTEND;TZID=America/Boise:20260516T170000
DTSTAMP:20260423T163400
CREATED:20260130T212654Z
LAST-MODIFIED:20260130T212654Z
UID:12460-1778832000-1778950800@cte.idaho.gov
SUMMARY:F0646 Leadership in Supervision: Creating Environments for Professional Growth
DESCRIPTION:This 2-day course presents the supervisor with the basic leadership skills and tools needed to perform effectively in the fire and emergency medical services (EMS) environment. The course includes concepts related to a successful transition to supervisory and leadership roles\, including concepts of adaptive leadership; change management; active followership; effective communication\, including difficult conversations and advocacy-inquiry-based dialogue; ethics; authority; power; decision-making; and active engagement through development of a personal plan.
URL:https://cte.idaho.gov/event/f0646-leadership-in-supervision-creating-environments-for-professional-growth/
LOCATION:Lewiston Police Training Center\, 2419 16th Ave\, Lewiston\, ID\, 83501\, United States
CATEGORIES:Fire Service Training
END:VEVENT
END:VCALENDAR